
BEGIN:VCALENDAR
PRODID:-//Buz Software// Calendar//EN
VERSION:2.0
METHOD:REQUEST
BEGIN:VEVENT
DTSTART:20260428T090000Z
DTEND:2026042800Z
LOCATION:Waynesboro Country Club
TRANSP:OPAQUE
SEQUENCE:0
UID:1937_1937_1937_1937
DTSTAMP:20260424T102000Z
ORGANIZER:CN=Waynesboro Country Club:mailto:ronda@waynesborocc.com
STATUS:CONFIRMED
DESCRIPTION:
SUMMARY:Ladies Day
PRIORITY:5
CLASS:PUBLIC
BEGIN:VALARM
TRIGGER:PT180M
ACTION:DISPLAY
DESCRIPTION:Reminder
END:VALARM
END:VEVENT
END:VCALENDAR
