
BEGIN:VCALENDAR
PRODID:-//Buz Software// Calendar//EN
VERSION:2.0
METHOD:REQUEST
BEGIN:VEVENT
DTSTART:20260426T000100Z
DTEND:2026042600Z
LOCATION:Waynesboro Country Club
TRANSP:OPAQUE
SEQUENCE:0
UID:1961_1961_1961_1961
DTSTAMP:20260424T100300Z
ORGANIZER:CN=Waynesboro Country Club:mailto:ronda@waynesborocc.com
STATUS:CONFIRMED
DESCRIPTION:
SUMMARY:Gap Tournament
PRIORITY:5
CLASS:PUBLIC
BEGIN:VALARM
TRIGGER:PT180M
ACTION:DISPLAY
DESCRIPTION:Reminder
END:VALARM
END:VEVENT
END:VCALENDAR
