
BEGIN:VCALENDAR
PRODID:-//Buz Software// Calendar//EN
VERSION:2.0
METHOD:REQUEST
BEGIN:VEVENT
DTSTART:20260604T000100Z
DTEND:2026060400Z
LOCATION:Waynesboro Country Club
TRANSP:OPAQUE
SEQUENCE:0
UID:1978_1978_1978_1978
DTSTAMP:20260419T103000Z
ORGANIZER:CN=Waynesboro Country Club:mailto:ronda@waynesborocc.com
STATUS:CONFIRMED
DESCRIPTION:
SUMMARY:Ladies 9-Hole Invitational
PRIORITY:5
CLASS:PUBLIC
BEGIN:VALARM
TRIGGER:PT180M
ACTION:DISPLAY
DESCRIPTION:Reminder
END:VALARM
END:VEVENT
END:VCALENDAR
