
BEGIN:VCALENDAR
PRODID:-//Buz Software// Calendar//EN
VERSION:2.0
METHOD:REQUEST
BEGIN:VEVENT
DTSTART:20260706T000100Z
DTEND:2026070600Z
LOCATION:Waynesboro Country Club
TRANSP:OPAQUE
SEQUENCE:0
UID:1987_1987_1987_1987
DTSTAMP:20260419T103600Z
ORGANIZER:CN=Waynesboro Country Club:mailto:ronda@waynesborocc.com
STATUS:CONFIRMED
DESCRIPTION:
SUMMARY:Employee Appreciation Tournament
PRIORITY:5
CLASS:PUBLIC
BEGIN:VALARM
TRIGGER:PT180M
ACTION:DISPLAY
DESCRIPTION:Reminder
END:VALARM
END:VEVENT
END:VCALENDAR
